BEGIN:VCALENDAR
VERSION:2.0
PRODID:-//wp-events-plugin.com//7.2.2.1//EN
TZID:Europe/Amsterdam
X-WR-TIMEZONE:Europe/Amsterdam
BEGIN:VEVENT
UID:414@wispelhuis.nl
DTSTART;TZID=Europe/Amsterdam:20260620T000000
DTEND;TZID=Europe/Amsterdam:20260620T000000
DTSTAMP:20260127T151807Z
URL:https://wispelhuis.nl/evenement/seizoensafsluiting-2/
SUMMARY:Seizoensafsluiting!!
DESCRIPTION:We gaan ook dit jaar een onwijs gezellige seizoensafsluiting re
 gelen!\nVerder informatie en de tijden wordt vervolgt!\n\nHouden jullie de
 ze datum vrij ?
END:VEVENT
BEGIN:VTIMEZONE
TZID:Europe/Amsterdam
X-LIC-LOCATION:Europe/Amsterdam
BEGIN:DAYLIGHT
DTSTART:20260329T030000
TZOFFSETFROM:+0100
TZOFFSETTO:+0200
TZNAME:CEST
END:DAYLIGHT
END:VTIMEZONE
END:VCALENDAR