BEGIN:VCALENDAR
VERSION:2.0
PRODID:-//wp-events-plugin.com//7.2.2.1//EN
TZID:Europe/Amsterdam
X-WR-TIMEZONE:Europe/Amsterdam
BEGIN:VEVENT
UID:408@wispelhuis.nl
DTSTART;TZID=Europe/Amsterdam:20260529T130000
DTEND;TZID=Europe/Amsterdam:20260529T180000
DTSTAMP:20260127T150702Z
URL:https://wispelhuis.nl/evenement/koppeldarten-4/
SUMMARY:Koppeldarten
DESCRIPTION:Kom samen met je maatje gezellig koppeldarten!\n\nWie weet word
 en jullie misschien wel eerste!
END:VEVENT
BEGIN:VTIMEZONE
TZID:Europe/Amsterdam
X-LIC-LOCATION:Europe/Amsterdam
BEGIN:DAYLIGHT
DTSTART:20260329T030000
TZOFFSETFROM:+0100
TZOFFSETTO:+0200
TZNAME:CEST
END:DAYLIGHT
END:VTIMEZONE
END:VCALENDAR