BEGIN:VCALENDAR
VERSION:2.0
PRODID:-//wp-events-plugin.com//7.2.2.1//EN
TZID:Europe/Amsterdam
X-WR-TIMEZONE:Europe/Amsterdam
BEGIN:VEVENT
UID:399@wispelhuis.nl
DTSTART;TZID=Europe/Amsterdam:20260418T200000
DTEND;TZID=Europe/Amsterdam:20260418T230000
DTSTAMP:20260127T145708Z
URL:https://wispelhuis.nl/evenement/kaarten-69/
SUMMARY:Kaarten
DESCRIPTION:
END:VEVENT
BEGIN:VTIMEZONE
TZID:Europe/Amsterdam
X-LIC-LOCATION:Europe/Amsterdam
BEGIN:DAYLIGHT
DTSTART:20260329T030000
TZOFFSETFROM:+0100
TZOFFSETTO:+0200
TZNAME:CEST
END:DAYLIGHT
END:VTIMEZONE
END:VCALENDAR