BEGIN:VCALENDAR
VERSION:2.0
PRODID:-//wp-events-plugin.com//7.2.2.1//EN
TZID:Europe/Amsterdam
X-WR-TIMEZONE:Europe/Amsterdam
BEGIN:VEVENT
UID:406@wispelhuis.nl
DTSTART;TZID=Europe/Amsterdam:20260519T193000
DTEND;TZID=Europe/Amsterdam:20260519T220000
DTSTAMP:20260127T150347Z
URL:https://wispelhuis.nl/evenement/inloop-crea-cafe-2/
SUMMARY:Inloop-Crea-Café
DESCRIPTION:
END:VEVENT
BEGIN:VTIMEZONE
TZID:Europe/Amsterdam
X-LIC-LOCATION:Europe/Amsterdam
BEGIN:DAYLIGHT
DTSTART:20260329T030000
TZOFFSETFROM:+0100
TZOFFSETTO:+0200
TZNAME:CEST
END:DAYLIGHT
END:VTIMEZONE
END:VCALENDAR