BEGIN:VCALENDAR
VERSION:2.0
PRODID:-//wp-events-plugin.com//7.2.2.1//EN
TZID:Europe/Amsterdam
X-WR-TIMEZONE:Europe/Amsterdam
BEGIN:VEVENT
UID:396@wispelhuis.nl
DTSTART;TZID=Europe/Amsterdam:20260403T200000
DTEND;TZID=Europe/Amsterdam:20260403T230000
DTSTAMP:20260127T152149Z
URL:https://wispelhuis.nl/evenement/eierkaarten-5/
SUMMARY:Eierkaarten
DESCRIPTION:Met Pasen spelen we eierkaarten\, waarbij je start met 6 eieren
 . Je kan door het spel eieren verliezen of winnen.\n\nMet hoeveel eieren g
 a jij naar huis?
END:VEVENT
BEGIN:VTIMEZONE
TZID:Europe/Amsterdam
X-LIC-LOCATION:Europe/Amsterdam
BEGIN:DAYLIGHT
DTSTART:20260329T030000
TZOFFSETFROM:+0100
TZOFFSETTO:+0200
TZNAME:CEST
END:DAYLIGHT
END:VTIMEZONE
END:VCALENDAR