BEGIN:VCALENDAR
VERSION:2.0
PRODID:-//wp-events-plugin.com//7.2.2.1//EN
TZID:Europe/Amsterdam
X-WR-TIMEZONE:Europe/Amsterdam
BEGIN:VEVENT
UID:411@wispelhuis.nl
DTSTART;TZID=Europe/Amsterdam:20260601T193000
DTEND;TZID=Europe/Amsterdam:20260601T220000
DTSTAMP:20260127T151459Z
URL:https://wispelhuis.nl/evenement/bestuursvergadering-19/
SUMMARY:Bestuursvergadering
DESCRIPTION:Wil je iets bespreken met het bestuur?\nDan kan je altijd langs
 komen op een van de avonden dat het bestuur vergadert. Stuur je dan wel ev
 en van te voren een mailtje op welke avond je wilt komen en wat het onderw
 erp is dat je wilt bespreken?
END:VEVENT
BEGIN:VTIMEZONE
TZID:Europe/Amsterdam
X-LIC-LOCATION:Europe/Amsterdam
BEGIN:DAYLIGHT
DTSTART:20260329T030000
TZOFFSETFROM:+0100
TZOFFSETTO:+0200
TZNAME:CEST
END:DAYLIGHT
END:VTIMEZONE
END:VCALENDAR